BEGIN:VCALENDAR
VERSION:2.0
METHOD:PUBLISH
PRODID:-//Agenda.ad//NONSGML v1.0//EN
BEGIN:VEVENT
CLASS:PUBLIC
UID:7225e1adc4c651aced84f0f454e2e88f@agenda.ad
DTSTAMP:20260424T084118Z
DTSTART:20260423T220000Z
DTEND:20260423T220000Z
SUMMARY:<span lang="FR">Taller '<span lang="ES-TRAD">Ritual facial exclusiu en 5 pasos</span>'&nbsp;</span>
DESCRIPTION:\n\nMés informació\nhttps://www.agenda.ad/activitat/escald
 es-engordany/cursos-i-tallers/taller-ritual-facial-exclusiu-
 en-5-pasos- \n
LOCATION:Hotel Roc Blanc
SEQUENCE:0
TRANSP:OPAQUE
X-ALT-DESC;FMTTYPE=text/html:<!DOCTYPE HTML PUBLIC "-//W3C//DTD HTML 3.2//EN"><HTML><HEAD
 ><TITLE></TITLE></HEAD><BODY><FONT FACE="Arial" SIZE=2><br/>
 <br/><b>Més informació</b><br/><a href="https://www.agenda
 .ad/activitat/escaldes-engordany/cursos-i-tallers/taller-rit
 ual-facial-exclusiu-en-5-pasos- ">https://www.agenda.ad/act
 ivitat/escaldes-engordany/cursos-i-tallers/taller-ritual-fac
 ial-exclusiu-en-5-pasos- </a><br/></FONT></BODY></HTML>
END:VEVENT
END:VCALENDAR